BEGIN:VCALENDAR
VERSION:2.0
PRODID:-//hacksw/handcal//NONSGML v1.0//EN
BEGIN:VEVENT
SUMMARY:Shiai 95
UID:ded03754-049e-4f58-931a-1d78829fff2f
DTSTART:20260419T063000Z
DTEND:20260419T220000Z
LOCATION:Localisation Dojo regional Herblay - 1 rue Alexandre Dumas 95220 HERBLAY
CATEGORIES:Sportif
STATUS:
DESCRIPTION:<p><span style="font-size:16px;">Competition pour marquer
 des points pour sa ceinture noire.</span></p>
 
 <p><u><span
 style="font-size:16px;">Horaires : </span></u></p>
 
 <ul>
 	<li><span
 style="font-size:16px;">8h30 : Toutes les feminines</span></li>
 </ul>
URL;VALUE=URI:https://www.energyclubgarches.com/evenements/2026/04/19/shiai-95-2435619
END:VEVENT
END:VCALENDAR
