BEGIN:VCALENDAR
VERSION:2.0
PRODID:-//hacksw/handcal//NONSGML v1.0//EN
BEGIN:VEVENT
SUMMARY:Cours de Taiso pendant les vacances scolaires
UID:df17aedf-31e9-4aa4-8c4f-79fcbb12a535
DTSTART:20260422T170000Z
DTEND:20260422T180000Z
LOCATION:Localisation Dojo du Gymnase Bodin - 20 rue de Suresnes 92380 GARCHES
CATEGORIES:Entrainement
STATUS:
DESCRIPTION:<p><span style="font-size:16px;">Cours de Taiso pendant
 les vacances scolaires.</span></p>
URL;VALUE=URI:https://www.energyclubgarches.com/evenements/2026/04/22/cours-de-taiso-pendant-les-vacances-scolaires-2437560
END:VEVENT
END:VCALENDAR
