BEGIN:VCALENDAR
VERSION:2.0
PRODID:-//hacksw/handcal//NONSGML v1.0//EN
BEGIN:VEVENT
SUMMARY:Entrainement pendant les vacances scolaires
UID:6382e8fc-a6b3-4813-9cd6-4f7b196b0f1c
DTSTART:20260422T180000Z
DTEND:20260422T193000Z
LOCATION:Localisation Dojo du Gymnase Bodin - 20 rue de Suresnes 92380 GARCHES
CATEGORIES:Entrainement
STATUS:
DESCRIPTION:<p><span style="font-size:16px;">Entrainement pendant les
 vacances scolaires, mercredi 22 et vendredi 24 avril.</span></p>
URL;VALUE=URI:https://www.energyclubgarches.com/evenements/2026/04/22/entrainement-pendant-les-vacances-scolaires-2437561
END:VEVENT
END:VCALENDAR
