BEGIN:VCALENDAR
VERSION:2.0
PRODID:-//hacksw/handcal//NONSGML v1.0//EN
BEGIN:VEVENT
SUMMARY:Entrainement pendant les vacances scolaires
UID:febee6d8-26a1-4055-baad-7a3125bc64e3
DTSTART:20260424T180000Z
DTEND:20260424T193000Z
LOCATION:Localisation Dojo du Gymnase Bodin - 20 rue de Suresnes 92380 GARCHES
CATEGORIES:Entrainement
STATUS:
DESCRIPTION:<p><span style="font-size:16px;">Entrainement pendant les
 vacances scolaires, mercredi 22 et vendredi 24 avril.</span></p>
URL;VALUE=URI:https://www.energyclubgarches.com/evenements/2026/04/24/entrainement-pendant-les-vacances-scolaires-2437562
END:VEVENT
END:VCALENDAR
