BEGIN:VCALENDAR
VERSION:2.0
PRODID:-//hacksw/handcal//NONSGML v1.0//EN
BEGIN:VEVENT
SUMMARY:Entrainement pendant les vacances scolaires
UID:22588abf-5768-4e6b-b378-3c7b9a241f18
DTSTART:20260428T180000Z
DTEND:20260428T193000Z
LOCATION:Localisation Gymnase des Raguidelles - 27 rue des Tourneroches 92150 SURESNES
CATEGORIES:Entrainement
STATUS:
DESCRIPTION:<p><span style="font-size:16px;">Entrainement pendant les
 vacances scolaires mardi 28 et jeudi 30 avril chez nos amis du Judo
 Club de Suresnes.</span></p>
URL;VALUE=URI:https://www.energyclubgarches.com/evenements/2026/04/28/entrainement-pendant-les-vacances-scolaires-2437563
END:VEVENT
END:VCALENDAR
