BEGIN:VCALENDAR
VERSION:2.0
PRODID:-//hacksw/handcal//NONSGML v1.0//EN
BEGIN:VEVENT
SUMMARY:Entrainement pendant les vacances scolaires
UID:0b6bf561-7c17-4871-a576-9446db7b50d1
DTSTART:20260430T180000Z
DTEND:20260430T193000Z
LOCATION:Localisation Gymnase des Raguidelles - 27 rue des Tourneroches 92150 SURESNES
CATEGORIES:Entrainement
STATUS:
DESCRIPTION:<p><span style="font-size:16px;">Entrainement pendant les
 vacances scolaires mardi 28 et jeudi 30 avril chez nos amis du Judo
 Club de Suresnes.</span></p>
URL;VALUE=URI:https://www.energyclubgarches.com/evenements/2026/04/30/entrainement-pendant-les-vacances-scolaires-2437564
END:VEVENT
END:VCALENDAR
