BEGIN:VCALENDAR
VERSION:2.0
PRODID:-//hacksw/handcal//NONSGML v1.0//EN
BEGIN:VEVENT
SUMMARY:Cours poussins/benjamins/minimes week-end de l'Ascension
UID:7c7d5108-99bc-49a9-aea4-c5f2ac9d859b
DTSTART:20260515T153000Z
DTEND:20260515T173000Z
LOCATION:Localisation Dojo du Gymnase Bodin - 20 rue de Suresnes 92380 GARCHES
CATEGORIES:Entrainement
STATUS:
DESCRIPTION:<p><span style="font-size:16px;">Pour les enfants qui ne
 partiront pas lors de ce week-end prolonge, nous proposons un cours
 commun de 2h pour les
 poussins/benjamins/minimes.</span></p>
 
 <p><span
 style="font-size:16px;">Ce sera l'occasion pour les judokas de
 reviser pour les passages de ceinture. Une partie de la seance sera
 egalement consacree a la pratique de techniques de
 jujitsu.</span></p>
URL;VALUE=URI:https://www.energyclubgarches.com/evenements/2026/05/15/cours-poussinsbenjaminsminimes-week-end-de-lascension-2442590
END:VEVENT
END:VCALENDAR
