BEGIN:VCALENDAR
VERSION:2.0
PRODID:-//hacksw/handcal//NONSGML v1.0//EN
BEGIN:VEVENT
SUMMARY:Championnat de France par equipes mixtes
UID:a9ee1120-bd7c-4af1-8120-16770f97a008
DTSTART:20260522T220000Z
DTEND:20260523T220000Z
LOCATION:Localisation Le Grand Dome, 3 rue du Grand Dome 91140 VILLEBON-SUR-YVETTE
CATEGORIES:Sportif
STATUS:
DESCRIPTION:<p><span style="font-size:16px;">Claude combat avec
 l'equipe du JC Suresnes au Championnat de France par equipes
 mixtes</span></p>
URL;VALUE=URI:https://www.energyclubgarches.com/evenements/2026/05/23/championnat-de-france-par-equipes-mixtes-2438463
END:VEVENT
END:VCALENDAR
